BEGIN:VCALENDAR
VERSION:2.0
PRODID:-//wp-events-plugin.com//6.6.4.4//EN
TZID:Europe/Berlin
X-WR-TIMEZONE:Europe/Berlin
BEGIN:VEVENT
UID:584@schultheater.de
DTSTART;TZID=Europe/Berlin;VALUE=DATE:20260924
DTEND;TZID=Europe/Berlin;VALUE=DATE:20260928
DTSTAMP:20260113T111853Z
URL:https://schultheater.de/veranstaltungen/11-deutsches-kinder-theater-fe
 st-2026/
SUMMARY:11. Deutsches Kinder-Theater-Fest 2026
DESCRIPTION:Festival &amp\; Fachaustausch\n24.–27. September 2026 | LATIB
 UL Zirkusgelände\, Köln\nBühne frei für gemeinsame Geschichten\, stark
 e Momente und Theater unter freiem Himmel &amp\; Zirkus-Zelten!\nBeim Deut
 schen Kinder-Theater-Fest 2026 verwandelt sich das LATIBUL-Gelände in Kö
 ln in einen Ort voller Fantasie\, Begegnung und kreativer Energie. Es geht
  um euch! Ab September 2025 können sich Theatergruppen mit Kindern von 6 
 bis 12 Jahren mit ihren Stücken bewerben – ganz egal\, ob ihr an einer 
 Schule\, in einem Theater\, in der Gemeinde oder ganz woanders spielt.\n\n
 Kriterien für die Auswahl der Produktionen:\n• Deutliche partizipative 
 Elemente und Mitgestaltung durch die Spieler:innen\n• Einsatz unterschie
 dlicher theatraler Mittel\n• Mut zur Auseinandersetzung mit relevanten T
 hemen\n• Keine thematische Vorgabe – freie Themenwahl\n\nVoraussetzung
 en am Aufführungsort LATIBUL (Köln)\n• Spielort: Zirkuszelt\n• Techn
 ische Ausstattung: Mikroports werden gestellt\n• Bühnenbild: muss schne
 ll auf- und abbaubar sein (keine Lagermöglichkeiten für große Teile)\n
 • Spieldauer: max. 60 Minuten\n• Alter der Teilnehmenden: 6–12 Jahr\
 n\nIntergenerativer Kontext möglich: das gesamte Ensemble darf teilnehmen
  (so lange der Großteil des Ensembles bis max. 12 Jahre alt ist). Überna
 chtung und Verpflegung für die teilnehmenden Gruppen gibt’s in der Juge
 ndherberge Köln Riehl inklusive (Anreise schon am 23. September 2026 mög
 lich). Ergänzt wird das Festival durch einen begleitenden Fachaustausch. 
 Nähere Infos dazu\nfolgen.\nWir halten euch auf dem Laufenden!\n\nBald au
 ch auf: www.kinder-theater-fest.de &amp\; über Instagram\nFragen? Einfach
  schreiben an: mail@butinfo.de\nDas Deutsche Kinder-Theater-Fest ist ein P
 rojekt der Ständigen Konferenz „Kinder spielen Theater“ und wird 2026
  vom Bundesverband Theaterpädagogik e. V. gemeinsam mit LATIBUL\, ASSIT
 EJ e.V. und KJTZ veranstaltet
CATEGORIES:Externe Angebote,Konferenzen/Tagungen
LOCATION:LATIBUL Zirkusgelände\, An der Schanz 6\, Köln\, Deutschland
X-APPLE-STRUCTURED-LOCATION;VALUE=URI;X-ADDRESS=An der Schanz 6\, Köln\, D
 eutschland;X-APPLE-RADIUS=100;X-TITLE=LATIBUL Zirkusgelände:geo:0,0
END:VEVENT
BEGIN:VTIMEZONE
TZID:Europe/Berlin
X-LIC-LOCATION:Europe/Berlin
BEGIN:DAYLIGHT
DTSTART:20260329T030000
TZOFFSETFROM:+0100
TZOFFSETTO:+0200
TZNAME:CEST
END:DAYLIGHT
END:VTIMEZONE
END:VCALENDAR