BEGIN:VCALENDAR
VERSION:2.0
PRODID:-//wp-events-plugin.com//6.6.4.4//EN
TZID:Europe/Berlin
X-WR-TIMEZONE:Europe/Berlin
BEGIN:VEVENT
UID:232@schultheater.de
DTSTART;TZID=Europe/Berlin:20231110T103000
DTEND;TZID=Europe/Berlin:20231110T103000
DTSTAMP:20231028T201145Z
URL:https://schultheater.de/veranstaltungen/besuch-einer-hauptprobe-von-mo
 mo-im-schauspiel-frankfurt/
SUMMARY:Besuch einer Hauptprobe von »Momo« im Schauspiel Frankfurt
DESCRIPTION:»Vorgeschaut spezial«\nBesuch einer Hauptprobe von »Momo« m
 it Einführung und anschließenden Austausch.\n\nUm sich für das Angebot 
 zu registrieren\, senden Sie dem Schauspiel Frankfurt bitte Ihre aktuelle 
 Schulbescheinigung: theaterpaedagogik@schauspielfrankfurt.de.
CATEGORIES:Externe Angebote
LOCATION:Schauspiel Frankfurt\, Neue Mainzer Str. 17\, Frankfurt\, Deutschl
 and
X-APPLE-STRUCTURED-LOCATION;VALUE=URI;X-ADDRESS=Neue Mainzer Str. 17\, Fran
 kfurt\, Deutschland;X-APPLE-RADIUS=100;X-TITLE=Schauspiel Frankfurt:geo:0,
 0
END:VEVENT
BEGIN:VTIMEZONE
TZID:Europe/Berlin
X-LIC-LOCATION:Europe/Berlin
BEGIN:STANDARD
DTSTART:20231029T020000
TZOFFSETFROM:+0200
TZOFFSETTO:+0100
TZNAME:CET
END:STANDARD
END:VTIMEZONE
END:VCALENDAR