BEGIN:VCALENDAR
VERSION:2.0
PRODID:-//wp-events-plugin.com//6.6.4.4//EN
TZID:Europe/Berlin
X-WR-TIMEZONE:Europe/Berlin
BEGIN:VEVENT
UID:344@schultheater.de
DTSTART;TZID=Europe/Berlin:20240706T163000
DTEND;TZID=Europe/Berlin:20240706T163000
DTSTAMP:20240606T090308Z
URL:https://schultheater.de/veranstaltungen/buehne-frei-fuer-variation-aus
 -frankenstein/
SUMMARY:Bühne frei für "Variation aus Frankenstein"
DESCRIPTION:FSE III\, 16-18 Jahre\n\nFrankensteins Monster als grünlich ve
 rnarbt\, mit Schrauben im Kopf\, erweckt durch den Wissenschaftler Viktor 
 Frankenstein in einer stürmischen Gewitternacht – das sind die Bilder\,
  die unsere kulturelle Vorstellung des Frankenstein-Mythos bestimmen. Aber
  was\, wenn es ganz anders war? Das Jugendensemble Aggressive Apothekys ze
 igt alternative Vorstellungen der Erweckung des Frankenstein’schen Monst
 ers.\n\nSpielleitung: Emmi Esefeld\, Emily Elßner\, Tobias Brozio\n\nEint
 ritt frei! Spenden erbeten.
CATEGORIES:Veranstaltungen des Schultheater-Studios
LOCATION:Schultheater-Studio Frankfurt\, Hammarskjöldring 17A\, Frankfurt\
 , 60439\, Deutschland
X-APPLE-STRUCTURED-LOCATION;VALUE=URI;X-ADDRESS=Hammarskjöldring 17A\, Fra
 nkfurt\, 60439\, Deutschland;X-APPLE-RADIUS=100;X-TITLE=Schultheater-Studi
 o Frankfurt:geo:0,0
END:VEVENT
BEGIN:VTIMEZONE
TZID:Europe/Berlin
X-LIC-LOCATION:Europe/Berlin
BEGIN:DAYLIGHT
DTSTART:20240331T030000
TZOFFSETFROM:+0100
TZOFFSETTO:+0200
TZNAME:CEST
END:DAYLIGHT
END:VTIMEZONE
END:VCALENDAR