BEGIN:VCALENDAR
VERSION:2.0
PRODID:-//wp-events-plugin.com//6.6.4.4//EN
TZID:Europe/Berlin
X-WR-TIMEZONE:Europe/Berlin
BEGIN:VEVENT
UID:590@schultheater.de
DTSTART;TZID=Europe/Berlin;VALUE=DATE:20260620
DTEND;TZID=Europe/Berlin;VALUE=DATE:20260625
DTSTAMP:20260126T155911Z
URL:https://schultheater.de/veranstaltungen/darmstaedter-schultheatertage-
 4/
SUMMARY:Darmstädter Schultheatertage
DESCRIPTION:Die 14. Darmstädter Schultheatertage bringen schulische und 
 außerschulische Theatergruppen aus Darmstadt und Umgebung zusammen – mi
 t ihren eigenen Stilen\, Themen und Perspektiven. In Workshops\, Aufführu
 ngen und Nachgesprächen entsteht ein lebendiger Austausch über künstler
 ische Entscheidungen\, Inhalte und Prozesse. Diese Begegnungen stiften Ver
 bindung – genau das feiern wir mit den Schultheatertagen.\n\nProgrammüb
 erblick\n\n 	•Sa\, 20.06.2026 – Eröffnung und Szenen-Parcours im öff
 entlichen Raum (11–15 Uhr)\n 	•Mo–Mi\, 22.–24.06.2026 – Tägli
 ch zwei Aufführungen mit anschließenden Nachgesprächen. Jede teilnehmen
 de Gruppe übernimmt während des Festivals eine Patenschaft für eine and
 ere Gruppe.\n\nJetzt bewerben!\n\nAb sofort sind alle Schulen und freien J
 ugendgruppen eingeladen\, ihre Produktionen einzureichen – willkommen si
 nd fiebrige Anfänger*innen ebenso wie routinierte Rampensäue.\n\nWichtig
 : Wir freuen uns ausdrücklich auch über Stücke\, die noch im Entstehen 
 sind. Eure Produktion muss bei der Bewerbung noch nicht fertig sein!\n\nBe
 werbungsschluss: 15.02.2026\n\n→ Hier über das Google-Formular bewerbe
 n\n\nWenn ihr Fotos\, Videos oder anderes Material mitschicken möchtet\, 
 sendet es bitte per E-Mail an: theaterpaedagogik@theatermollerhaus.de\n\nA
 blauf pro Gruppe (Festivalwoche)\n\n 	Technische Einrichtung &amp\; Genera
 lprobe\n 	Vorstellungsbesuch mit moderiertem Gespräch\n 	Eigene Aufführu
 ng am Nachmittag oder Abend\n\nKontakt\n\nBei Fragen meldet euch gern:\n\n
 Theater Moller Haus – Kai Schuber-Seel: 06151 / 9515980 · theaterpaed
 agogik@theatermollerhaus.de\n\nAußerdem auf dieser Webseite:\n\nhttps://t
 heatermollerhaus.de/kinder-und-jugendkultur/schultheatertage/
CATEGORIES:Externe Angebote,Schultheateraufführungen in der Region
LOCATION:Staatstheater Darmstadt/ Mollerhaus\, Georg-Büchner-Platz 1\, Dar
 mstadt\, Deutschland
X-APPLE-STRUCTURED-LOCATION;VALUE=URI;X-ADDRESS=Georg-Büchner-Platz 1\, Da
 rmstadt\, Deutschland;X-APPLE-RADIUS=100;X-TITLE=Staatstheater Darmstadt/ 
 Mollerhaus:geo:0,0
END:VEVENT
BEGIN:VTIMEZONE
TZID:Europe/Berlin
X-LIC-LOCATION:Europe/Berlin
BEGIN:DAYLIGHT
DTSTART:20260329T030000
TZOFFSETFROM:+0100
TZOFFSETTO:+0200
TZNAME:CEST
END:DAYLIGHT
END:VTIMEZONE
END:VCALENDAR