BEGIN:VCALENDAR
VERSION:2.0
PRODID:-//wp-events-plugin.com//6.6.4.4//EN
TZID:Europe/Berlin
X-WR-TIMEZONE:Europe/Berlin
BEGIN:VEVENT
UID:480@schultheater.de
DTSTART;TZID=Europe/Berlin:20250222T160000
DTEND;TZID=Europe/Berlin:20250222T210000
DTSTAMP:20250207T081719Z
URL:https://schultheater.de/veranstaltungen/das-wbk-theaterfest-2025/
SUMMARY:Das WBK Theaterfest 2025
DESCRIPTION:Die Teilnehmer*innen des hessischen Weiterbildungskurses Darste
 llendes Spiel 2023-2025 zeigen ihre Theaterprojekte.\nProgramm\n16 Uhr Beg
 rüßung und Überreichung der Zertifikate\nder Grundschulabsolvent*innen\
 n16.30 Uhr Die Schatten von Venedig Gruppe Nord\n17.15 Uhr Haarstarlavista
 \, Baby Gruppe Mitte\n18 Uhr Kill your Darling Gruppe Süd I\n18.30 Uhr Pa
 use: Die Köche stehen für euch bereit\n19.45 Uhr ab morgen Gruppe Süd I
 II\n20.30 Uhr PANDATÜTÜ Gruppe Süd II\n\nEintritt 10 Euro (bis 14 Jahre
  frei)\nSchultheater-Studio Frankfurt Hammarskjöldring 17a 60439 Frankfur
 t\nTelefon (069) 212-320 44 studio@schultheater.de www.schultheater.de\n\n
 &nbsp\;\n\nKill your Darling\nEigenproduktion\nbasierend auf Vampirgeschic
 hten\n\nSie gehören sicher auch zu denen\, die all den wunderbar romantis
 chen Vampirgeschichten verfallen sind. Oder etwa nicht? Interview mit eine
 m Vampir\, Vampire Diaries oder die Twilight-Saga? Alles verklärter Nonse
 ns. Sie haben ja keine Ahnung\, was es bedeutet\, ein Vampir zu sein! Auf 
 ewig in einer untoten Hülle gefangen\, Sonnenlicht ist uns ein Graus und 
 menschliches Blut ist uns ein Fest. Doch einige unter uns möchten nur all
 zu gerne mit den alten Traditionen brechen!\n\nSpielleitung: Katrin Aurich
 \n\n&nbsp\;\n\nab morgen\nfrei nach Falk Richter\n\nHinter dem Zufall laue
 rt eine radikale Sinnlosigkeit. Wir stürzen so langsam zu Boden\, es gibt
  keinen Aufschlag. Wir haben keine Sprache mehr\, mit der wir das sagen k
 önnen\, was wir wirklich wollen. Wir wirken verletzt\, gereizt\, unberech
 enbar\, angespannt\, müde\, vielleicht haben wir irgendetwas vor. Nachts 
 kloppen wir unseren Hass auf die Welt in die Kommentarspalten von Süddeut
 sche\, Spiegel Online und Tagesschau.de. Nachts fallen wir aus allen Zusam
 menhängen\, aus aller Gewissheit. Weiter\, weiter\, nicht stehen bleiben\
 , bloß nicht zur Ruhe kommen\, jetzt bloß nicht zur Ruhe kommen. Jetzt..
 .\n\nSpielleitung: Lukas M. Günther\n\n&nbsp\;\n\nPANDATÜTÜ\nEigenprodu
 ktion\nfrei nach Lautgedichten von Kurt Schwitters und Hugo Ball\n\nPanda!
  Tütü! Trallala bumm!\nKnarz wipp wapp – Dada! Summ summ!\nTanz\, schw
 eb\, plopp – klirr\, klirr\, klirr\,\nPandalicht flirrt – und Tütüwi
 rr!\nKomm! Schau! Klatsch bummladada!\nOrt? Zeit? Ha! Frag den Fufu-Za!\nP
 andatütü – Schnickschnack pracht\,\nChaos tanzt durch die Dada-Nacht!\
 n\nSpielleitung: Andreas Müller\n\n&nbsp\;\n\nHaarstarlavista\, Baby\nseh
 r frei nach Hoffmans „Der Struwwelpeter“\n\n2024 feierte der „Struww
 elpeter“ 180. Geburtstag. Jahrzehntelang war Hoffmanns Struwwelpeter aus
  Kinderzimmer nicht wegzudenken und bot mit „Lustigen Geschichten und dr
 olligen Bildern“ zur Gute-Nacht-Lektüre gleich Antworten auf mögliche 
 Erziehungsfragen: Wer mit dem Feuerzeug der Eltern spielt\, verbrennt! Wer
  seine Suppe nicht aufisst\, verhungert! Wer zu lange an den Daumen lutsch
 t\, dem werden sie abgeschnitten! Sind das noch Antworten mit denen Pädag
 og*innen und Eltern heute etwas anfangen können? Diese Fragen stellt sich
  Peter Struwwel mit und durch seine Kundschaft in seinem Friseursalon.\n\n
 Spielleitung: Britt Grunwaldt und Daniel Herbrich\n\n&nbsp\;\n\nDie Schatt
 en von Venedig\nfrei nach „Der Herr der Diebe“ von Cornelia Funke\n\nZ
 wei Brüder laufen nach dem Tod der Mutter von zu Hause weg\, um der Adopt
 ion durch die ungeliebte Tante zu entgehen. Sie erreichen Venedig\, die Tr
 aumstadt ihrer Mutter. Zuflucht finden sie bei einer Gruppe junger Diebe. 
 Ihr geheimnisvoller Anführer ist der „Herr der Diebe“\, der die Grupp
 e mit seiner Diebesbeute über Wasser hält. Ein seltsamer Detektiv ist de
 n Brüdern im Auftrag der Tante auf der Spur. Im Spannungsfeld von Macht\,
  Freundschaft und Erwachsenwerden begleiten wir die Protagonisten auf ihre
 m Weg.\n\nSpielleitung: Nikolaos Lampos
CATEGORIES:Externe Angebote
LOCATION:Schultheater-Studio Frankfurt\, Hammarskjöldring 17A\, Frankfurt\
 , 60439\, Deutschland
X-APPLE-STRUCTURED-LOCATION;VALUE=URI;X-ADDRESS=Hammarskjöldring 17A\, Fra
 nkfurt\, 60439\, Deutschland;X-APPLE-RADIUS=100;X-TITLE=Schultheater-Studi
 o Frankfurt:geo:0,0
END:VEVENT
BEGIN:VTIMEZONE
TZID:Europe/Berlin
X-LIC-LOCATION:Europe/Berlin
BEGIN:STANDARD
DTSTART:20241027T020000
TZOFFSETFROM:+0200
TZOFFSETTO:+0100
TZNAME:CET
END:STANDARD
END:VTIMEZONE
END:VCALENDAR