BEGIN:VCALENDAR
VERSION:2.0
PRODID:-//wp-events-plugin.com//6.6.4.4//EN
TZID:Europe/Berlin
X-WR-TIMEZONE:Europe/Berlin
BEGIN:VEVENT
UID:202@schultheater.de
DTSTART;TZID=Europe/Berlin:20231129T133000
DTEND;TZID=Europe/Berlin:20231129T160000
DTSTAMP:20231002T092718Z
URL:https://schultheater.de/veranstaltungen/f10-23-spot-on-inszenierungsbe
 gleitung-2-hilfe-ich-habe-viel-zu-viel-viel-zu-wenig-spielmaterial/
SUMMARY:F10-23 / SPOT ON: Inszenierungsbegleitung 2 - Hilfe\, ich habe viel
  zu viel … viel zu wenig Spielmaterial
DESCRIPTION:\n\nIm Theaterunterricht ist die Zeit immer knapp\, die Stunden
  sind mit Warmup\, Einführung in ästhetische Mittel\, Gestaltungsaufgabe
 n\, Präsentationen und Feedback überladen. Der Konflikt zwischen Arbeite
 n nach meinem Plan und den kreativen Impulsen und Ideen der Schüler*innen
  erzeugen schnell ein Gefühl der Überforderung und Unzufriedenheit.\n\n 
 \n\nZu diesem Workshop: Eine Recherche beleuchtet den Hintergrund eines Th
 emas und bildet somit die Basisarbeit der Theaterarbeit. Daher sollte Rech
 erchearbeit am Anfang einer jeden Produktion stehen. Sie bildet die Grundl
 age für eine tiefergehende Auseinandersetzung.\n\n \n\nDas generierte Mat
 erial mit Stift und Marker\, Schere und Kleber\, Cut and Paste durcharbeit
 en\, auswerten\, aussortieren\, zusammensetzen\, anpassen. Textflächen er
 stellen\, erste Konfrontation mit einer Stückfassung\, Strichfassung. Vie
 lleicht sogar das Stück vom Ende her denken.\n\n \n\nDiese Fortbildung is
 t Teil einer Reihe\, die einzeln aber auch komplett gebucht werden kann. K
 olleg*innen begleiten sich gegenseitig bei der Inszenierung und geben ganz
  konkrete Hinweise zum Prozess und der weiteren Ausgestaltung. Modul 1 fin
 det am Schultheater-Studio statt\, Modul 2-4 idealerweise an der Schule ei
 ne*r Teilnehmer*in.\n\n \n\nKursleitung:\nBarbara Einhaus\n\n \n\nKosten: 
 50€/Modul\, alle 4 Module 180€\n\nZu Anmeldung\n\n
CATEGORIES:Fortbildung/Fachtage
LOCATION:Burggymnasium Friedberg\, In d. Burg 8\, Friedberg\, Deutschland
X-APPLE-STRUCTURED-LOCATION;VALUE=URI;X-ADDRESS=In d. Burg 8\, Friedberg\, 
 Deutschland;X-APPLE-RADIUS=100;X-TITLE=Burggymnasium Friedberg:geo:0,0
END:VEVENT
BEGIN:VTIMEZONE
TZID:Europe/Berlin
X-LIC-LOCATION:Europe/Berlin
BEGIN:STANDARD
DTSTART:20231029T020000
TZOFFSETFROM:+0200
TZOFFSETTO:+0100
TZNAME:CET
END:STANDARD
END:VTIMEZONE
END:VCALENDAR