BEGIN:VCALENDAR
VERSION:2.0
PRODID:-//wp-events-plugin.com//6.6.4.4//EN
TZID:Europe/Berlin
X-WR-TIMEZONE:Europe/Berlin
BEGIN:VEVENT
UID:434@schultheater.de
DTSTART;TZID=Europe/Berlin:20250428T153000
DTEND;TZID=Europe/Berlin:20250428T190000
DTSTAMP:20250113T102303Z
URL:https://schultheater.de/veranstaltungen/gk2-koerper-als-ausdrucksmitte
 l-9/
SUMMARY:GK2 - Körper als Ausdrucksmittel
DESCRIPTION:GK2 / Körper als Ausdrucksmittel\n\nÜbungen zu Körper\, Stim
 me\, Raum und Objekt. Den Körper als grundlegendes Ausdrucksmittel entdec
 ken. Körperwahrnehmung und Körperbeherrschung verbessern – körperspra
 chliche Ausdrucksmittel entwickeln und Bühnenpräsenz erwerben. Haltungen
  und Bewegungen zur Entwicklung von Figuren nutzen.\n\nTermine:\nMi\, 26.0
 2.2025 / Do\, 27.02.2025\n\nhttps://schultheater.de/fortbildung/anmeldung-
 fortbildung/
CATEGORIES:Fortbildung/Fachtage
LOCATION:Schultheater-Studio Frankfurt\, Hammarskjöldring 17A\, Frankfurt\
 , 60439\, Deutschland
X-APPLE-STRUCTURED-LOCATION;VALUE=URI;X-ADDRESS=Hammarskjöldring 17A\, Fra
 nkfurt\, 60439\, Deutschland;X-APPLE-RADIUS=100;X-TITLE=Schultheater-Studi
 o Frankfurt:geo:0,0
END:VEVENT
BEGIN:VTIMEZONE
TZID:Europe/Berlin
X-LIC-LOCATION:Europe/Berlin
BEGIN:DAYLIGHT
DTSTART:20250330T030000
TZOFFSETFROM:+0100
TZOFFSETTO:+0200
TZNAME:CEST
END:DAYLIGHT
END:VTIMEZONE
END:VCALENDAR