BEGIN:VCALENDAR
VERSION:2.0
PRODID:-//wp-events-plugin.com//6.6.4.4//EN
TZID:Europe/Berlin
X-WR-TIMEZONE:Europe/Berlin
BEGIN:VEVENT
UID:127@schultheater.de
DTSTART;TZID=Europe/Berlin:20230926T140000
DTEND;TZID=Europe/Berlin:20230926T180000
DTSTAMP:20230507T201854Z
URL:https://schultheater.de/veranstaltungen/jubilaeum-15-jahre-kulturschul
 e/
SUMMARY:Jubiläum - 15 Jahre KulturSchule
DESCRIPTION:Jubiläum | Festakt - 15 Jahre KulturSchule Hessen\n\nim Schlos
 s Weilburg\n\nVeranstaltung für KulturSchulen und geladene Gäste
CATEGORIES:Externe Angebote,Sonstiges
END:VEVENT
BEGIN:VTIMEZONE
TZID:Europe/Berlin
X-LIC-LOCATION:Europe/Berlin
BEGIN:DAYLIGHT
DTSTART:20230326T030000
TZOFFSETFROM:+0100
TZOFFSETTO:+0200
TZNAME:CEST
END:DAYLIGHT
END:VTIMEZONE
END:VCALENDAR