BEGIN:VCALENDAR
VERSION:2.0
PRODID:-//wp-events-plugin.com//6.6.4.4//EN
TZID:Europe/Berlin
X-WR-TIMEZONE:Europe/Berlin
BEGIN:VEVENT
UID:68@schultheater.de
DTSTART;TZID=Europe/Berlin;VALUE=DATE:20230319
DTEND;TZID=Europe/Berlin;VALUE=DATE:20230326
DTSTAMP:20230201T162439Z
URL:https://schultheater.de/veranstaltungen/kuss-theater-sehen-theater-spi
 elen/
SUMMARY:KUSS – THEATER SEHEN! THEATER SPIELEN!
DESCRIPTION:26. Hessische Kinder- und Jugendtheaterwoche in Marburg\n\nMehr
CATEGORIES:Externe Angebote
END:VEVENT
BEGIN:VTIMEZONE
TZID:Europe/Berlin
X-LIC-LOCATION:Europe/Berlin
BEGIN:STANDARD
DTSTART:20221030T020000
TZOFFSETFROM:+0200
TZOFFSETTO:+0100
TZNAME:CET
END:STANDARD
END:VTIMEZONE
END:VCALENDAR