BEGIN:VCALENDAR
VERSION:2.0
PRODID:-//wp-events-plugin.com//6.6.4.4//EN
TZID:Europe/Berlin
X-WR-TIMEZONE:Europe/Berlin
BEGIN:VEVENT
UID:504@schultheater.de
DTSTART;TZID=Europe/Berlin:20250526T131500
DTEND;TZID=Europe/Berlin:20250526T173000
DTSTAMP:20250422T083449Z
URL:https://schultheater.de/veranstaltungen/netzwerktreffen-der-schulen-zu
 r-besonderen-foerderung-der-darstellenden-kuenste/
SUMMARY:Netzwerktreffen der Schulen zur besonderen Förderung der Darstelle
 nden Künste
DESCRIPTION:\n\n\n\n\n\n\nLiebe Interessierte am Netzwerktreffen der Schul
 en zur besonderen Förderung der Darstellenden Künste\,\n\nüber dieses F
 ormular können Sie sich als Teilnehmende des Netzwerkes zu unserem angek
 ündigten Netzwerktreffen am 26.05.2025 an der Carl-Schomburg-Schule in 
 Kassel anmelden.\n\nDas Netzwerktreffen wird von 13:15 Uhr - 17:30 Uhr sta
 ttfinden. Neben Einblicken in die Darstellenden Künste an der Carl-Schom
 burg-Schule wird es Praxisimpulse für Ihren Unterricht sowie Zeit für d
 en Austausch und das Netzwerken geben. Da wir in diesem Jahr den Fokus auf
  den Übergang von der Grundschule an die weiterführende Schule richten m
 öchten\, werden auch Interessierte aus dem Schulentwicklungsprogramm The
 ater für ALLE! eingeladen sein.\n\n13.15 – 14.00 Uhr       offener 
 Anfang mit Fingerfood (von SuS gegen Spende) und Infoständen\n\n14.00 –
  14.30 Uhr       Künstlerischer Beitrag der Schülerinnen und Schüler
  der CSS\n\n14.30 – 15.00 Uhr       Begrüßung\, Gemeinsame Einstimm
 ung &amp\; Kennenlernen\n\n15:00 – 15:30 Uhr      Kaffeepause und Mar
 kt der Möglichkeiten\, Austausch\n\n15:30 – 17:00 Uhr       Praxisim
 pulse für den Unterricht / Workshops (Hier geht es zu den Beschreibungen
 )\n\n17:00 – 17:30 Uhr       Gemeinsamer Abschluss\n\n&nbsp\;\n\nWir 
 freuen uns über Ihre Anmeldung.\n\nNina Hahn\, Natalie Kohl und Thomas Kl
 otz\n\n\n\n\n\n\n\n&nbsp\;\n\n\n\n\n\n\n\nHier gehts zur Anmeldung!\n\n\n\
 n\n\n\n
CATEGORIES:Externe Angebote,Fortbildung/Fachtage
LOCATION:Carl-Schomburg-Schule\, Josephstraße 18\, Kassel\, Deutschland
X-APPLE-STRUCTURED-LOCATION;VALUE=URI;X-ADDRESS=Josephstraße 18\, Kassel\,
  Deutschland;X-APPLE-RADIUS=100;X-TITLE=Carl-Schomburg-Schule:geo:0,0
END:VEVENT
BEGIN:VTIMEZONE
TZID:Europe/Berlin
X-LIC-LOCATION:Europe/Berlin
BEGIN:DAYLIGHT
DTSTART:20250330T030000
TZOFFSETFROM:+0100
TZOFFSETTO:+0200
TZNAME:CEST
END:DAYLIGHT
END:VTIMEZONE
END:VCALENDAR