BEGIN:VCALENDAR
VERSION:2.0
PRODID:-//wp-events-plugin.com//6.6.4.4//EN
TZID:Europe/Berlin
X-WR-TIMEZONE:Europe/Berlin
BEGIN:VEVENT
UID:117@schultheater.de
DTSTART;TZID=Europe/Berlin:20230710T110000
DTEND;TZID=Europe/Berlin:20230710T123000
DTSTAMP:20230403T112019Z
URL:https://schultheater.de/veranstaltungen/theater-der-welt-a-fun-night-o
 ut-jetse-batelaan-8/
SUMMARY:Theater der Welt: A fun night out // Jetse Batelaan  // 8+
DESCRIPTION:Vieles läuft gut\, doch ist das Leben auch voller Hindernisse.
  Da gibt es Haustiere\, die krank werden. Nachrichten\, die Angst machen. 
 Hosen\, die unbequem sitzen. Freund*innen\, die nerven. Und Tage\, die ein
 fach nur schrecklich sind. In „A fun night out 8+“ bekommen auch verdr
 ängte Emotionen wie Scham oder Einsamkeit ihre eigene atemberaubende Show
 -Nummer. Jetse Batelaan und das Theater Artemis bespielen das pompöse Cap
 itol Theater mit einem flüsternden\, glitzernden Musical. Die Darsteller*
 innen tanzen und singen\, als ob ihr Leben davon abhinge. Doch leider kön
 nen nicht alle dabei sein\, die dabei sein sollten. So braut sich am Rande
  des Geschehens etwas zusammen\, das nicht einfach zu erklären ist. Was i
 st da los\, was geschieht da hinter den Kulissen der großen Bühne? Versu
 cht jemand\, heimlich die Show zu stehlen? Haltet die Dieb*innen!\n\nTermi
 ne: So. 9.7.: 16:00 Uhr + Kurz-Intro: So. 9.7.: 15:30 Uhr\nMo. 10.7.: 11:0
 0 Uhr\n\nOrt: Capitol\, Kaiserstr. 106 / Offenbach\n\nAnmeldung: tickets@t
 heaterderwelt.de\nWeitere Termine zum Vermittlungsangebot finden Sie bald 
 unter www.theaterderwelt.de.\nBei Fragen wenden Sie sich gerne an: jungewe
 lten@theaterderwelt.de
CATEGORIES:Externe Angebote
END:VEVENT
BEGIN:VTIMEZONE
TZID:Europe/Berlin
X-LIC-LOCATION:Europe/Berlin
BEGIN:DAYLIGHT
DTSTART:20230326T030000
TZOFFSETFROM:+0100
TZOFFSETTO:+0200
TZNAME:CEST
END:DAYLIGHT
END:VTIMEZONE
END:VCALENDAR