BEGIN:VCALENDAR
VERSION:2.0
PRODID:-//wp-events-plugin.com//6.6.4.4//EN
TZID:Europe/Berlin
X-WR-TIMEZONE:Europe/Berlin
BEGIN:VEVENT
UID:126@schultheater.de
DTSTART;TZID=Europe/Berlin:20231006T150000
DTEND;TZID=Europe/Berlin:20231007T170000
DTSTAMP:20230507T202010Z
URL:https://schultheater.de/veranstaltungen/theater-fuer-alle-fachforum/
SUMMARY:Theater für ALLE! Fachforum
DESCRIPTION:Fachforum für Theater für ALLE!-Grundschulen in Weilburg. Bei
  Kapazität auch für interessierte Grundschullehrkräfte anderer Schulen.
 \n\nMehr Infos gibt es bei Nina Hahn (nina.hahn@kultus.hessen.de).
CATEGORIES:Konferenzen/Tagungen
END:VEVENT
BEGIN:VTIMEZONE
TZID:Europe/Berlin
X-LIC-LOCATION:Europe/Berlin
BEGIN:DAYLIGHT
DTSTART:20230326T030000
TZOFFSETFROM:+0100
TZOFFSETTO:+0200
TZNAME:CEST
END:DAYLIGHT
END:VTIMEZONE
END:VCALENDAR